BEGIN:VCALENDAR
VERSION:2.0
PRODID:-//X-Press Magazine - Entertainment in Perth - ECPv6.15.20//NONSGML v1.0//EN
CALSCALE:GREGORIAN
METHOD:PUBLISH
X-ORIGINAL-URL:https://xpressmag.com.au
X-WR-CALDESC:Events for X-Press Magazine - Entertainment in Perth
REFRESH-INTERVAL;VALUE=DURATION:PT1H
X-Robots-Tag:noindex
X-PUBLISHED-TTL:PT1H
BEGIN:VTIMEZONE
TZID:Australia/Perth
BEGIN:STANDARD
TZOFFSETFROM:+0800
TZOFFSETTO:+0800
TZNAME:AWST
DTSTART:20250101T000000
END:STANDARD
END:VTIMEZONE
BEGIN:VEVENT
DTSTART;TZID=Australia/Perth:20261107T130000
DTEND;TZID=Australia/Perth:20261107T210000
DTSTAMP:20260425T182337
CREATED:20251009T180023Z
LAST-MODIFIED:20260316T174750Z
UID:258484-1794056400-1794085200@xpressmag.com.au
SUMMARY:PICNIC Festival 2026
DESCRIPTION:PICNIC FESTIVAL 2025 🌞 Good Times on Tap 🍻 \n1 weekend. 3 sessions. 50+ vendors of booze\, beats and bites with your crew! \nWhere the music’s pumping\, the drinks are flowing\, and the vibes are immaculate.—————————————————— \n📍 South Perth Foreshore📆 28-29 November🎟️ Sign up for Early Access picnicfestival.com.au/#signup🔞 18+ Only \n—————————————————— \n✨ SESSIONSReady to drink\, dine and dance by the river? Pick your session below ⇣🟨 FRI NIGHT – 28 NOV | 5pm-11pm🟪 SAT ARVO – 29 NOV | 11am-4pm🟦 SAT NIGHT – 29 NOV | 5pm-11pm \n————————————————— \n🍻 WHAT’S ON TAPOver 100+ local brews\, spirits and wines to sip\, sample and savour🍺 20+ Beer & Cider vendors🍸 15+ Spirits & Cocktail bars🍷 10+ Wine & Bubbles stalls🍔 Perth’s hottest food trucks + flavour creators \n🧠 Beverage tastings\, pairings\, and masterclasses🔪 Butcher Wars – the battle of the blades🎯 Vendor activations\, roving performers & sideshow alley🏆 On-stage comps & games🎡 Thrill rides & Silent Disco \n—————————————————— \n🎵 THEMED ENTERTAINMENT ZONESFive zones. Non-stop tunes. Endless vibes. \n🤠 Honky Tonk Hideout – Saddle up for country bangers\, line dancing & cowboy charm.🪩 Neon Disco – Where disco classics & boozy grooves light up the dance floor all weekend.🎸 Riff City – Rock out with Triple M to live guitar anthems & singalong hits.📀 Mixtape Mill – Throwback to the 2000s with Hip Hop\, R&B & pop bangers you secretly still love.🍇 Flavour Cave – Tastings\, masterclasses\, pairings & foodie experiences that’ll delight every palate. \n—————————————————— \n🎉 PLUS👢 Boot scootin’🤣 Live comedy🍹 Swan Beach Bar🤹 Roving performers🎠 Rides & games🌅 Riverfront sunset sessions with Perth’s best DJs \n—————————————————— \n📆 1 weekend. 3 sessions. 100+ reasons to celebrate. \nLet’s make memories where good times are always on tap 🍻 \n👉 Sign up for Early Access picnicfestival.com.au/#signup
URL:https://xpressmag.com.au/event/picnic-festival-2025/
LOCATION:South Perth Foreshore\, South Perth Foreshore
CATEGORIES:All Events
END:VEVENT
BEGIN:VEVENT
DTSTART;TZID=Australia/Perth:20270125T160000
DTEND;TZID=Australia/Perth:20270125T190000
DTSTAMP:20260425T182337
CREATED:20260226T054752Z
LAST-MODIFIED:20260316T174750Z
UID:268051-1800892800-1800903600@xpressmag.com.au
SUMMARY:Foo Fighters at HBF Park\, Perth (Lic. All Ages)
DESCRIPTION:Frontier Touring is thrilled to announce that one of the biggest and most beloved rock bands of all time – Rock and Roll Hall of Fame Inductees Foo Fighters – will make their hugely anticipated return to Australia and New Zealand next summer. \nJoined by special guests Southern River Band and Last Quokka. \nThe Foo Fighters Take Cover Tour is Licensed All Ages**This event is recommended for patrons aged 5+. Patrons aged 14 years & under must be accompanied by a responsible adult at all times. ​​General admission standing areas are recommended for patrons aged 15 years and over. \nFRONTIER MEMBER PRESALE Runs 24 hours from: Mon 23 Feb (12noon local time)or ends earlier if presale allocation exhausted Sign up – frontiertouring.com/signup  \nARTIST PRESALE (via Frontier Member sign-up)Runs 24 hours from: Mon 23 Feb (12noon local time) or ends earlier if presale allocation exhausted \nTELSTRA PLUS PRESALERuns 48 hours from: Fri 20 Feb (12noon local time)or ends earlier if presale allocation exhausted \nTICKETS ON SALE From: Wed 25 Feb (12noon local time) \nTICKETS FROM frntr.co/FooFighters27Per \nEVENT INFORMATION frontiertouring.com/foofighters \nPLEASE NOTE: Post approval is turned on for this Facebook event – any posts related to reselling tickets will not be approved. We strongly recommend only purchasing through the authorised ticketing agency listed in the description of this Facebook event.
URL:https://xpressmag.com.au/event/foo-fighters-at-hbf-park-perth-lic-all-ages/
LOCATION:HBF Park Perth\, HBF Park Perth
CATEGORIES:All Events
ORGANIZER;CN="Frontier Touring":MAILTO:noreply@facebookmail_com
END:VEVENT
END:VCALENDAR